Package: Organism.dplyr Version: 1.32.0 Command: E:\biocbuild\bbs-3.19-bioc\R\bin\R.exe CMD check --no-multiarch --install=check:Organism.dplyr.install-out.txt --library=E:\biocbuild\bbs-3.19-bioc\R\library --no-vignettes --timings Organism.dplyr_1.32.0.tar.gz StartedAt: 2024-10-17 04:11:02 -0400 (Thu, 17 Oct 2024) EndedAt: 2024-10-17 04:19:40 -0400 (Thu, 17 Oct 2024) EllapsedTime: 517.3 seconds RetCode: 0 Status: OK CheckDir: Organism.dplyr.Rcheck Warnings: 0