Package: Organism.dplyr Version: 1.32.0 Command: rm -rf Organism.dplyr.buildbin-libdir && mkdir Organism.dplyr.buildbin-libdir && F:\biocbuild\bbs-3.19-bioc\R\bin\R.exe CMD INSTALL --build --library=Organism.dplyr.buildbin-libdir Organism.dplyr_1.32.0.tar.gz StartedAt: 2024-06-27 08:38:01 -0400 (Thu, 27 Jun 2024) EndedAt: 2024-06-27 08:38:54 -0400 (Thu, 27 Jun 2024) EllapsedTime: 53.1 seconds RetCode: 0 Status: OK PackageFile: Organism.dplyr_1.32.0.zip PackageFileSize: 860.3 KiB