Package: Organism.dplyr Version: 1.32.0 Command: /home/biocbuild/bbs-3.19-bioc/R/bin/R CMD INSTALL Organism.dplyr StartedAt: 2024-10-16 16:04:52 -0400 (Wed, 16 Oct 2024) EndedAt: 2024-10-16 16:05:30 -0400 (Wed, 16 Oct 2024) EllapsedTime: 37.5 seconds RetCode: 0 Status: OK