Package: Organism.dplyr Version: 1.32.0 Command: /home/biocbuild/bbs-3.19-bioc/R/bin/R CMD build --keep-empty-dirs --no-resave-data Organism.dplyr StartedAt: 2024-10-16 19:56:10 -0400 (Wed, 16 Oct 2024) EndedAt: 2024-10-16 19:57:59 -0400 (Wed, 16 Oct 2024) EllapsedTime: 109.2 seconds RetCode: 0 Status: OK PackageFile: Organism.dplyr_1.32.0.tar.gz PackageFileSize: 510.4 KiB