Package: Organism.dplyr Version: 1.32.0 Command: /home/biocbuild/R/R-beta-2024-04-15_r86425/bin/R CMD check --install=check:Organism.dplyr.install-out.txt --library=/home/biocbuild/R/R-beta-2024-04-15_r86425/site-library --no-vignettes --timings Organism.dplyr_1.32.0.tar.gz StartedAt: 2024-05-09 10:17:36 -0000 (Thu, 09 May 2024) EndedAt: 2024-05-09 10:27:26 -0000 (Thu, 09 May 2024) EllapsedTime: 590.2 seconds RetCode: 0 Status: OK CheckDir: Organism.dplyr.Rcheck Warnings: 0