Package: Organism.dplyr Version: 1.32.0 Command: /Library/Frameworks/R.framework/Resources/bin/R CMD build --keep-empty-dirs --no-resave-data Organism.dplyr StartedAt: 2024-10-17 05:58:41 -0400 (Thu, 17 Oct 2024) EndedAt: 2024-10-17 06:00:47 -0400 (Thu, 17 Oct 2024) EllapsedTime: 126.5 seconds RetCode: 0 Status: OK PackageFile: Organism.dplyr_1.32.0.tar.gz PackageFileSize: 514.1 KiB