Package: Organism.dplyr Version: 1.32.0 Command: rm -rf Organism.dplyr.buildbin-libdir && mkdir Organism.dplyr.buildbin-libdir && /Users/biocbuild/BBS/utils/build-universal.sh Organism.dplyr_1.32.0.tar.gz /Library/Frameworks/R.framework/Resources/bin/R Organism.dplyr.buildbin-libdir StartedAt: 2024-10-18 19:51:20 -0400 (Fri, 18 Oct 2024) EndedAt: 2024-10-18 19:52:17 -0400 (Fri, 18 Oct 2024) EllapsedTime: 56.8 seconds RetCode: 0 Status: OK PackageFile: Organism.dplyr_1.32.0.tgz PackageFileSize: 870.6 KiB