Package: OrderedList Version: 1.76.0 Command: rm -rf OrderedList.buildbin-libdir && mkdir OrderedList.buildbin-libdir && F:\biocbuild\bbs-3.19-bioc\R\bin\R.exe CMD INSTALL --build --library=OrderedList.buildbin-libdir OrderedList_1.76.0.tar.gz StartedAt: 2024-06-27 08:37:55 -0400 (Thu, 27 Jun 2024) EndedAt: 2024-06-27 08:38:12 -0400 (Thu, 27 Jun 2024) EllapsedTime: 16.6 seconds RetCode: 0 Status: OK PackageFile: OrderedList_1.76.0.zip PackageFileSize: 878.8 KiB