Package: OrderedList Version: 1.76.0 Command: /home/biocbuild/bbs-3.19-bioc/R/bin/R CMD INSTALL OrderedList StartedAt: 2024-10-16 15:51:17 -0400 (Wed, 16 Oct 2024) EndedAt: 2024-10-16 15:51:23 -0400 (Wed, 16 Oct 2024) EllapsedTime: 6.0 seconds RetCode: 0 Status: OK