Package: OrderedList Version: 1.76.0 Command: /home/biocbuild/bbs-3.19-bioc/R/bin/R CMD build --keep-empty-dirs --no-resave-data OrderedList StartedAt: 2024-10-16 19:56:02 -0400 (Wed, 16 Oct 2024) EndedAt: 2024-10-16 19:57:47 -0400 (Wed, 16 Oct 2024) EllapsedTime: 105.2 seconds RetCode: 0 Status: OK PackageFile: OrderedList_1.76.0.tar.gz PackageFileSize: 811 KiB