Package: OrderedList Version: 1.76.0 Command: rm -rf OrderedList.buildbin-libdir && mkdir OrderedList.buildbin-libdir && /Users/biocbuild/BBS/utils/build-universal.sh OrderedList_1.76.0.tar.gz /Library/Frameworks/R.framework/Resources/bin/R OrderedList.buildbin-libdir StartedAt: 2024-10-17 16:47:09 -0400 (Thu, 17 Oct 2024) EndedAt: 2024-10-17 16:47:21 -0400 (Thu, 17 Oct 2024) EllapsedTime: 11.4 seconds RetCode: 0 Status: OK PackageFile: OrderedList_1.76.0.tgz PackageFileSize: 1.106 MiB