Package: OrderedList Version: 1.76.0 Command: /Library/Frameworks/R.framework/Resources/bin/R CMD check --install=check:OrderedList.install-out.txt --library=/Library/Frameworks/R.framework/Resources/library --no-vignettes --timings OrderedList_1.76.0.tar.gz StartedAt: 2024-06-11 00:29:39 -0400 (Tue, 11 Jun 2024) EndedAt: 2024-06-11 00:30:41 -0400 (Tue, 11 Jun 2024) EllapsedTime: 62.8 seconds RetCode: 0 Status: OK CheckDir: OrderedList.Rcheck Warnings: 0