Package: OrderedList Version: 1.76.0 Command: rm -rf OrderedList.buildbin-libdir && mkdir OrderedList.buildbin-libdir && /Users/biocbuild/BBS/utils/build-universal.sh OrderedList_1.76.0.tar.gz /Library/Frameworks/R.framework/Resources/bin/R OrderedList.buildbin-libdir StartedAt: 2024-06-11 12:25:25 -0400 (Tue, 11 Jun 2024) EndedAt: 2024-06-11 12:25:35 -0400 (Tue, 11 Jun 2024) EllapsedTime: 10.0 seconds RetCode: 0 Status: OK PackageFile: OrderedList_1.76.0.tgz PackageFileSize: 1.106 MiB