Package: OpenStats Version: 1.16.0 Command: /home/biocbuild/bbs-3.19-bioc/R/bin/R CMD INSTALL OpenStats StartedAt: 2024-10-16 16:31:42 -0400 (Wed, 16 Oct 2024) EndedAt: 2024-10-16 16:31:55 -0400 (Wed, 16 Oct 2024) EllapsedTime: 12.7 seconds RetCode: 0 Status: OK