Package: OpenStats Version: 1.16.0 Command: /Library/Frameworks/R.framework/Resources/bin/R CMD build --keep-empty-dirs --no-resave-data OpenStats StartedAt: 2024-10-16 21:45:33 -0400 (Wed, 16 Oct 2024) EndedAt: 2024-10-16 21:46:39 -0400 (Wed, 16 Oct 2024) EllapsedTime: 66.1 seconds RetCode: 0 Status: OK PackageFile: OpenStats_1.16.0.tar.gz PackageFileSize: 598.9 KiB