Package: OpenStats Version: 1.16.0 Command: /Library/Frameworks/R.framework/Resources/bin/R CMD check --install=check:OpenStats.install-out.txt --library=/Library/Frameworks/R.framework/Resources/library --no-vignettes --timings OpenStats_1.16.0.tar.gz StartedAt: 2024-10-18 06:35:02 -0400 (Fri, 18 Oct 2024) EndedAt: 2024-10-18 06:37:05 -0400 (Fri, 18 Oct 2024) EllapsedTime: 123.0 seconds RetCode: 0 Status: OK CheckDir: OpenStats.Rcheck Warnings: 0