Package: OncoSimulR Version: 4.6.0 Command: F:\biocbuild\bbs-3.19-bioc\R\bin\R.exe CMD INSTALL OncoSimulR StartedAt: 2024-06-26 16:30:23 -0400 (Wed, 26 Jun 2024) EndedAt: 2024-06-26 16:35:02 -0400 (Wed, 26 Jun 2024) EllapsedTime: 279.1 seconds RetCode: 0 Status: OK