Package: OncoSimulR Version: 4.6.0 Command: chmod a+r OncoSimulR -R && F:\biocbuild\bbs-3.19-bioc\R\bin\R.exe CMD build --keep-empty-dirs --no-resave-data OncoSimulR StartedAt: 2024-06-26 20:39:35 -0400 (Wed, 26 Jun 2024) EndedAt: 2024-06-26 20:55:31 -0400 (Wed, 26 Jun 2024) EllapsedTime: 955.3 seconds RetCode: 0 Status: OK PackageFile: OncoSimulR_4.6.0.tar.gz PackageFileSize: 3.441 MiB