Package: OncoSimulR Version: 4.6.0 Command: rm -rf OncoSimulR.buildbin-libdir && mkdir OncoSimulR.buildbin-libdir && F:\biocbuild\bbs-3.19-bioc\R\bin\R.exe CMD INSTALL --build --library=OncoSimulR.buildbin-libdir OncoSimulR_4.6.0.tar.gz StartedAt: 2024-06-27 08:37:28 -0400 (Thu, 27 Jun 2024) EndedAt: 2024-06-27 08:41:45 -0400 (Thu, 27 Jun 2024) EllapsedTime: 256.7 seconds RetCode: 0 Status: OK PackageFile: OncoSimulR_4.6.0.zip PackageFileSize: 4.34 MiB