Package: OncoSimulR Version: 4.6.1 Command: /home/biocbuild/bbs-3.19-bioc/R/bin/R CMD INSTALL OncoSimulR StartedAt: 2024-10-16 16:28:27 -0400 (Wed, 16 Oct 2024) EndedAt: 2024-10-16 16:30:53 -0400 (Wed, 16 Oct 2024) EllapsedTime: 146.1 seconds RetCode: 0 Status: OK