Package: OncoSimulR Version: 4.6.1 Command: /home/biocbuild/bbs-3.19-bioc/R/bin/R CMD build --keep-empty-dirs --no-resave-data OncoSimulR StartedAt: 2024-10-16 19:53:53 -0400 (Wed, 16 Oct 2024) EndedAt: 2024-10-16 20:02:08 -0400 (Wed, 16 Oct 2024) EllapsedTime: 495.2 seconds RetCode: 0 Status: OK PackageFile: OncoSimulR_4.6.1.tar.gz PackageFileSize: 7.189 MiB