Package: OncoSimulR Version: 4.6.1 Command: /Library/Frameworks/R.framework/Resources/bin/R CMD check --install=check:OncoSimulR.install-out.txt --library=/Library/Frameworks/R.framework/Resources/library --no-vignettes --timings OncoSimulR_4.6.1.tar.gz StartedAt: 2024-10-17 10:19:10 -0400 (Thu, 17 Oct 2024) EndedAt: 2024-10-17 10:30:11 -0400 (Thu, 17 Oct 2024) EllapsedTime: 661.1 seconds RetCode: 0 Status: OK CheckDir: OncoSimulR.Rcheck Warnings: 0