Package: OncoSimulR Version: 4.6.1 Command: /Library/Frameworks/R.framework/Resources/bin/R CMD build --keep-empty-dirs --no-resave-data OncoSimulR StartedAt: 2024-10-16 21:44:20 -0400 (Wed, 16 Oct 2024) EndedAt: 2024-10-16 21:58:14 -0400 (Wed, 16 Oct 2024) EllapsedTime: 835.0 seconds RetCode: 0 Status: OK PackageFile: OncoSimulR_4.6.1.tar.gz PackageFileSize: 8.532 MiB