Package: OncoSimulR Version: 4.6.1 Command: rm -rf OncoSimulR.buildbin-libdir && mkdir OncoSimulR.buildbin-libdir && /Users/biocbuild/BBS/utils/build-universal.sh OncoSimulR_4.6.1.tar.gz /Library/Frameworks/R.framework/Resources/bin/R OncoSimulR.buildbin-libdir StartedAt: 2024-10-17 16:46:23 -0400 (Thu, 17 Oct 2024) EndedAt: 2024-10-17 16:51:36 -0400 (Thu, 17 Oct 2024) EllapsedTime: 312.9 seconds RetCode: 0 Status: OK PackageFile: OncoSimulR_4.6.1.tgz PackageFileSize: 9.093 MiB