Package: OncoSimulR Version: 4.6.0 Command: /Library/Frameworks/R.framework/Resources/bin/R CMD build --keep-empty-dirs --no-resave-data OncoSimulR StartedAt: 2024-06-09 17:35:00 -0400 (Sun, 09 Jun 2024) EndedAt: 2024-06-09 17:42:40 -0400 (Sun, 09 Jun 2024) EllapsedTime: 459.6 seconds RetCode: 0 Status: OK PackageFile: OncoSimulR_4.6.0.tar.gz PackageFileSize: 8.555 MiB