Package: OncoSimulR Version: 4.6.0 Command: rm -rf OncoSimulR.buildbin-libdir && mkdir OncoSimulR.buildbin-libdir && /Users/biocbuild/BBS/utils/build-universal.sh OncoSimulR_4.6.0.tar.gz /Library/Frameworks/R.framework/Resources/bin/R OncoSimulR.buildbin-libdir StartedAt: 2024-06-10 00:30:45 -0400 (Mon, 10 Jun 2024) EndedAt: 2024-06-10 00:33:31 -0400 (Mon, 10 Jun 2024) EllapsedTime: 166.6 seconds RetCode: 0 Status: OK PackageFile: OncoSimulR_4.6.0.tgz PackageFileSize: 9.113 MiB