Package: OncoSimulR Version: 4.6.0 Command: /Library/Frameworks/R.framework/Resources/bin/R CMD build --keep-empty-dirs --no-resave-data OncoSimulR StartedAt: 2024-06-10 01:57:28 -0400 (Mon, 10 Jun 2024) EndedAt: 2024-06-10 02:02:34 -0400 (Mon, 10 Jun 2024) EllapsedTime: 306.6 seconds RetCode: 1 Status: ERROR PackageFile: None PackageFileSize: NA