Package: OncoSimulR Version: 4.6.0 Command: /Library/Frameworks/R.framework/Resources/bin/R CMD build --keep-empty-dirs --no-resave-data OncoSimulR StartedAt: 2024-10-10 05:23:07 -0400 (Thu, 10 Oct 2024) EndedAt: 2024-10-10 05:27:11 -0400 (Thu, 10 Oct 2024) EllapsedTime: 243.4 seconds RetCode: 1 Status: ERROR PackageFile: None PackageFileSize: NA