Package: OncoScore Version: 1.32.0 Command: /Library/Frameworks/R.framework/Resources/bin/R CMD check --install=check:OncoScore.install-out.txt --library=/Library/Frameworks/R.framework/Resources/library --no-vignettes --timings OncoScore_1.32.0.tar.gz StartedAt: 2024-10-17 10:19:07 -0400 (Thu, 17 Oct 2024) EndedAt: 2024-10-17 10:23:14 -0400 (Thu, 17 Oct 2024) EllapsedTime: 246.8 seconds RetCode: 0 Status: OK CheckDir: OncoScore.Rcheck Warnings: 0