Package: OncoScore Version: 1.32.0 Command: /Library/Frameworks/R.framework/Resources/bin/R CMD check --install=check:OncoScore.install-out.txt --library=/Library/Frameworks/R.framework/Resources/library --no-vignettes --timings OncoScore_1.32.0.tar.gz StartedAt: 2024-10-15 06:06:48 -0400 (Tue, 15 Oct 2024) EndedAt: 2024-10-15 06:08:57 -0400 (Tue, 15 Oct 2024) EllapsedTime: 129.0 seconds RetCode: 0 Status: OK CheckDir: OncoScore.Rcheck Warnings: 0