Package: OmnipathR Version: 3.12.4 Command: E:\biocbuild\bbs-3.19-bioc\R\bin\R.exe CMD INSTALL OmnipathR StartedAt: 2024-10-16 16:47:54 -0400 (Wed, 16 Oct 2024) EndedAt: 2024-10-16 16:49:27 -0400 (Wed, 16 Oct 2024) EllapsedTime: 93.4 seconds RetCode: 0 Status: OK