Package: OmnipathR Version: 3.12.1 Command: rm -rf OmnipathR.buildbin-libdir && mkdir OmnipathR.buildbin-libdir && F:\biocbuild\bbs-3.19-bioc\R\bin\R.exe CMD INSTALL --build --library=OmnipathR.buildbin-libdir OmnipathR_3.12.1.tar.gz StartedAt: 2024-06-27 08:37:18 -0400 (Thu, 27 Jun 2024) EndedAt: 2024-06-27 08:37:59 -0400 (Thu, 27 Jun 2024) EllapsedTime: 40.8 seconds RetCode: 0 Status: OK PackageFile: OmnipathR_3.12.1.zip PackageFileSize: 2.761 MiB