Package: OmnipathR Version: 3.12.4 Command: /home/biocbuild/bbs-3.19-bioc/R/bin/R CMD INSTALL OmnipathR StartedAt: 2024-10-16 16:21:27 -0400 (Wed, 16 Oct 2024) EndedAt: 2024-10-16 16:21:40 -0400 (Wed, 16 Oct 2024) EllapsedTime: 13.2 seconds RetCode: 0 Status: OK