Package: OmnipathR Version: 3.12.4 Command: /home/biocbuild/bbs-3.19-bioc/R/bin/R CMD build --keep-empty-dirs --no-resave-data OmnipathR StartedAt: 2024-10-16 19:52:31 -0400 (Wed, 16 Oct 2024) EndedAt: 2024-10-16 20:05:48 -0400 (Wed, 16 Oct 2024) EllapsedTime: 797.0 seconds RetCode: 0 Status: OK PackageFile: OmnipathR_3.12.4.tar.gz PackageFileSize: 2.892 MiB