Package: OmnipathR Version: 3.12.4 Command: /Library/Frameworks/R.framework/Resources/bin/R CMD INSTALL OmnipathR StartedAt: 2024-10-16 16:04:38 -0400 (Wed, 16 Oct 2024) EndedAt: 2024-10-16 16:05:19 -0400 (Wed, 16 Oct 2024) EllapsedTime: 41.3 seconds RetCode: 0 Status: OK