Package: OmnipathR Version: 3.12.4 Command: /Library/Frameworks/R.framework/Resources/bin/R CMD check --install=check:OmnipathR.install-out.txt --library=/Library/Frameworks/R.framework/Resources/library --no-vignettes --timings OmnipathR_3.12.4.tar.gz StartedAt: 2024-10-17 10:17:17 -0400 (Thu, 17 Oct 2024) EndedAt: 2024-10-17 10:45:50 -0400 (Thu, 17 Oct 2024) EllapsedTime: 1713.9 seconds RetCode: 0 Status: OK CheckDir: OmnipathR.Rcheck Warnings: 0