Package: OmnipathR Version: 3.12.1 Command: /Library/Frameworks/R.framework/Resources/bin/R CMD INSTALL OmnipathR StartedAt: 2024-06-09 15:21:39 -0400 (Sun, 09 Jun 2024) EndedAt: 2024-06-09 15:21:59 -0400 (Sun, 09 Jun 2024) EllapsedTime: 20.5 seconds RetCode: 0 Status: OK