Package: OmnipathR Version: 3.12.1 Command: rm -rf OmnipathR.buildbin-libdir && mkdir OmnipathR.buildbin-libdir && /Users/biocbuild/BBS/utils/build-universal.sh OmnipathR_3.12.1.tar.gz /Library/Frameworks/R.framework/Resources/bin/R OmnipathR.buildbin-libdir StartedAt: 2024-05-30 01:18:20 -0400 (Thu, 30 May 2024) EndedAt: 2024-05-30 01:18:46 -0400 (Thu, 30 May 2024) EllapsedTime: 26.2 seconds RetCode: 0 Status: OK PackageFile: OmnipathR_3.12.1.tgz PackageFileSize: 2.901 MiB