Package: OmnipathR Version: 3.12.1 Command: /Library/Frameworks/R.framework/Resources/bin/R CMD INSTALL OmnipathR StartedAt: 2024-06-09 16:34:02 -0400 (Sun, 09 Jun 2024) EndedAt: 2024-06-09 16:34:23 -0400 (Sun, 09 Jun 2024) EllapsedTime: 20.6 seconds RetCode: 0 Status: OK