Package: OmnipathR Version: 3.12.1 Command: /Library/Frameworks/R.framework/Resources/bin/R CMD build --keep-empty-dirs --no-resave-data OmnipathR StartedAt: 2024-06-10 01:56:04 -0400 (Mon, 10 Jun 2024) EndedAt: 2024-06-10 01:57:51 -0400 (Mon, 10 Jun 2024) EllapsedTime: 107.4 seconds RetCode: 1 Status: ERROR PackageFile: None PackageFileSize: NA