Package: Omixer Version: 1.14.0 Command: chmod a+r Omixer -R && E:\biocbuild\bbs-3.19-bioc\R\bin\R.exe CMD build --keep-empty-dirs --no-resave-data Omixer StartedAt: 2024-10-16 20:46:53 -0400 (Wed, 16 Oct 2024) EndedAt: 2024-10-16 20:48:33 -0400 (Wed, 16 Oct 2024) EllapsedTime: 99.8 seconds RetCode: 0 Status: OK PackageFile: Omixer_1.14.0.tar.gz PackageFileSize: 1.277 MiB