Package: Omixer Version: 1.14.0 Command: F:\biocbuild\bbs-3.19-bioc\R\bin\R.exe CMD check --no-multiarch --install=check:Omixer.install-out.txt --library=F:\biocbuild\bbs-3.19-bioc\R\library --no-vignettes --timings Omixer_1.14.0.tar.gz StartedAt: 2024-06-27 04:22:45 -0400 (Thu, 27 Jun 2024) EndedAt: 2024-06-27 04:23:36 -0400 (Thu, 27 Jun 2024) EllapsedTime: 51.0 seconds RetCode: 0 Status: OK CheckDir: Omixer.Rcheck Warnings: 0