Package: Omixer Version: 1.14.0 Command: rm -rf Omixer.buildbin-libdir && mkdir Omixer.buildbin-libdir && F:\biocbuild\bbs-3.19-bioc\R\bin\R.exe CMD INSTALL --build --library=Omixer.buildbin-libdir Omixer_1.14.0.tar.gz StartedAt: 2024-06-27 08:37:16 -0400 (Thu, 27 Jun 2024) EndedAt: 2024-06-27 08:37:34 -0400 (Thu, 27 Jun 2024) EllapsedTime: 17.7 seconds RetCode: 0 Status: OK PackageFile: Omixer_1.14.0.zip PackageFileSize: 950.1 KiB