Package: Omixer Version: 1.14.0 Command: /home/biocbuild/bbs-3.19-bioc/R/bin/R CMD INSTALL Omixer StartedAt: 2024-10-16 15:57:31 -0400 (Wed, 16 Oct 2024) EndedAt: 2024-10-16 15:57:35 -0400 (Wed, 16 Oct 2024) EllapsedTime: 4.4 seconds RetCode: 0 Status: OK