Package: Omixer Version: 1.14.0 Command: /Library/Frameworks/R.framework/Resources/bin/R CMD INSTALL Omixer StartedAt: 2024-06-09 15:27:13 -0400 (Sun, 09 Jun 2024) EndedAt: 2024-06-09 15:27:20 -0400 (Sun, 09 Jun 2024) EllapsedTime: 7.0 seconds RetCode: 0 Status: OK