Package: Omixer Version: 1.14.0 Command: /Library/Frameworks/R.framework/Resources/bin/R CMD INSTALL Omixer StartedAt: 2024-10-16 16:08:30 -0400 (Wed, 16 Oct 2024) EndedAt: 2024-10-16 16:08:35 -0400 (Wed, 16 Oct 2024) EllapsedTime: 5.8 seconds RetCode: 0 Status: OK