Package: Omixer Version: 1.14.0 Command: /Library/Frameworks/R.framework/Resources/bin/R CMD build --keep-empty-dirs --no-resave-data Omixer StartedAt: 2024-10-17 05:51:23 -0400 (Thu, 17 Oct 2024) EndedAt: 2024-10-17 05:52:54 -0400 (Thu, 17 Oct 2024) EllapsedTime: 90.7 seconds RetCode: 0 Status: OK PackageFile: Omixer_1.14.0.tar.gz PackageFileSize: 1.407 MiB