Package: OmicCircos Version: 1.42.0 Command: rm -rf OmicCircos.buildbin-libdir && mkdir OmicCircos.buildbin-libdir && E:\biocbuild\bbs-3.19-bioc\R\bin\R.exe CMD INSTALL --build --library=OmicCircos.buildbin-libdir OmicCircos_1.42.0.tar.gz StartedAt: 2024-10-17 08:17:07 -0400 (Thu, 17 Oct 2024) EndedAt: 2024-10-17 08:17:30 -0400 (Thu, 17 Oct 2024) EllapsedTime: 23.1 seconds RetCode: 0 Status: OK PackageFile: OmicCircos_1.42.0.zip PackageFileSize: 3.733 MiB