Package: OmicCircos Version: 1.42.0 Command: /Library/Frameworks/R.framework/Resources/bin/R CMD check --install=check:OmicCircos.install-out.txt --library=/Library/Frameworks/R.framework/Resources/library --no-vignettes --timings OmicCircos_1.42.0.tar.gz StartedAt: 2024-10-17 10:15:10 -0400 (Thu, 17 Oct 2024) EndedAt: 2024-10-17 10:18:30 -0400 (Thu, 17 Oct 2024) EllapsedTime: 200.5 seconds RetCode: 0 Status: WARNINGS CheckDir: OmicCircos.Rcheck Warnings: 1