Package: OmicCircos Version: 1.42.0 Command: /home/biocbuild/R/R-beta-2024-04-15_r86425/bin/R CMD build --keep-empty-dirs --no-resave-data OmicCircos StartedAt: 2024-05-09 02:12:15 -0000 (Thu, 09 May 2024) EndedAt: 2024-05-09 02:13:00 -0000 (Thu, 09 May 2024) EllapsedTime: 45.1 seconds RetCode: 0 Status: OK PackageFile: OmicCircos_1.42.0.tar.gz PackageFileSize: 2.805 MiB